BEGIN:VCALENDAR
VERSION:2.0
PRODID:-// - ECPv6.15.20//NONSGML v1.0//EN
CALSCALE:GREGORIAN
METHOD:PUBLISH
X-ORIGINAL-URL:https://hispanicbusinesscircle.com
X-WR-CALDESC:Events for 
REFRESH-INTERVAL;VALUE=DURATION:PT1H
X-Robots-Tag:noindex
X-PUBLISHED-TTL:PT1H
BEGIN:VTIMEZONE
TZID:America/New_York
BEGIN:DAYLIGHT
TZOFFSETFROM:-0500
TZOFFSETTO:-0400
TZNAME:EDT
DTSTART:20240310T070000
END:DAYLIGHT
BEGIN:STANDARD
TZOFFSETFROM:-0400
TZOFFSETTO:-0500
TZNAME:EST
DTSTART:20241103T060000
END:STANDARD
BEGIN:DAYLIGHT
TZOFFSETFROM:-0500
TZOFFSETTO:-0400
TZNAME:EDT
DTSTART:20250309T070000
END:DAYLIGHT
BEGIN:STANDARD
TZOFFSETFROM:-0400
TZOFFSETTO:-0500
TZNAME:EST
DTSTART:20251102T060000
END:STANDARD
BEGIN:DAYLIGHT
TZOFFSETFROM:-0500
TZOFFSETTO:-0400
TZNAME:EDT
DTSTART:20260308T070000
END:DAYLIGHT
BEGIN:STANDARD
TZOFFSETFROM:-0400
TZOFFSETTO:-0500
TZNAME:EST
DTSTART:20261101T060000
END:STANDARD
END:VTIMEZONE
BEGIN:VEVENT
DTSTART;TZID=America/New_York:20250815T080000
DTEND;TZID=America/New_York:20250815T100000
DTSTAMP:20260422T113449
CREATED:20250802T135320Z
LAST-MODIFIED:20250908T141031Z
UID:1862-1755244800-1755252000@hispanicbusinesscircle.com
SUMMARY:Everybody's Welcome | HBC Business Breakfast 08-15-25
DESCRIPTION:@ Dix Hills Diner – 1800 E. Jericho Turnpike\, Huntington\, NY \n516Ads/ 631Ads are proud to team up with the Hispanic Business Circle and event sponsors Safe Haven Insurance Agency\, Romano LoManto PLLC\, Law Office of Paul Bryan Schneider\, P.C.\, OMG Shower Doors\, Mirrors & Glass  and our friends @ TheBestPaintingPro for HBC Business Breakfast (4) @ The Dix Hills Diner. We’re honored to work with Jenny Flores\, Mabel Barzaga – Century 21\, Iris Rivera – Rivera Resources and Frank Sánchez – Sir Speedy/ Plainview on this program/ initiative. $30 pp. Please RSVP. Hope to see you there!
URL:https://hispanicbusinesscircle.com/event/everybodys-welcome-hbc-business-breakfast-08-15-25/
LOCATION:Dix Hills Diner\, 1800 E. Jericho Turnpike\, Huntington\, NY\, United States
CATEGORIES:Business Networking Breakfast
ATTACH;FMTTYPE=image/jpeg:https://hispanicbusinesscircle.com/wp-content/uploads/2025/08/Resized_HBC_Flyer3.jpeg
ORGANIZER;CN="Hispanic Business Circle":MAILTO:info@hispanicubusinesscircle.com
END:VEVENT
END:VCALENDAR