BEGIN:VCALENDAR
VERSION:2.0
PRODID:-// - ECPv6.15.20//NONSGML v1.0//EN
CALSCALE:GREGORIAN
METHOD:PUBLISH
X-ORIGINAL-URL:https://hispanicbusinesscircle.com
X-WR-CALDESC:Events for 
REFRESH-INTERVAL;VALUE=DURATION:PT1H
X-Robots-Tag:noindex
X-PUBLISHED-TTL:PT1H
BEGIN:VTIMEZONE
TZID:America/New_York
BEGIN:DAYLIGHT
TZOFFSETFROM:-0500
TZOFFSETTO:-0400
TZNAME:EDT
DTSTART:20240310T070000
END:DAYLIGHT
BEGIN:STANDARD
TZOFFSETFROM:-0400
TZOFFSETTO:-0500
TZNAME:EST
DTSTART:20241103T060000
END:STANDARD
BEGIN:DAYLIGHT
TZOFFSETFROM:-0500
TZOFFSETTO:-0400
TZNAME:EDT
DTSTART:20250309T070000
END:DAYLIGHT
BEGIN:STANDARD
TZOFFSETFROM:-0400
TZOFFSETTO:-0500
TZNAME:EST
DTSTART:20251102T060000
END:STANDARD
BEGIN:DAYLIGHT
TZOFFSETFROM:-0500
TZOFFSETTO:-0400
TZNAME:EDT
DTSTART:20260308T070000
END:DAYLIGHT
BEGIN:STANDARD
TZOFFSETFROM:-0400
TZOFFSETTO:-0500
TZNAME:EST
DTSTART:20261101T060000
END:STANDARD
END:VTIMEZONE
BEGIN:VEVENT
DTSTART;TZID=America/New_York:20250813T113000
DTEND;TZID=America/New_York:20250813T153000
DTSTAMP:20260422T113724
CREATED:20250723T151557Z
LAST-MODIFIED:20250908T141911Z
UID:1827-1755084600-1755099000@hispanicbusinesscircle.com
SUMMARY:SEPA Mujer Networking Event 08-13-25
DESCRIPTION:SEPA Mujer proudly presents Latina Bosses\, a networking event designed to highlight and recognize trailblazing Latina women who excel in their respective industries and have successfully established themselves as notable professionals in their fields. It is an evening to celebrate Latina professionals who continuously challenge traditionally male-dominated industries and prove that Latina women can be leaders too. In hopes of fostering open conversations about being a Latina professional\, we aim to inspire and motivate other Latinas in our community to pursue their professional passions and career ambitions fearlessly. \nJoin us for an engaging program featuring a panel of powerhouse Latina professionals\, including: \n\nJulissa Guitierrez- Chief Diversity Officer at the Office of Governor Kathy Hochul Angie Khawly\, Esq-Founding Attorney of Khawly Law PLLC\nDr. Sandra Castro-Interim Dean for Undergraduate Programs at Adelphi University’s College of Professional and Continuing Studies (CPCS)\nDiana Caba- VP for Community & Economic Development at the Hispanic Federation Silvana Diaz-Director of Noticia New York City and Noticia Long Island
URL:https://hispanicbusinesscircle.com/event/sepa-mujer-networking-event-08-13-25/
LOCATION:AG Steakhouse\, 1177 Corporate Dr\, Westbury\, NY\, 11590\, United States
CATEGORIES:Business Networking
ATTACH;FMTTYPE=image/jpeg:https://hispanicbusinesscircle.com/wp-content/uploads/2025/07/SEPA-Mujer.jpg
END:VEVENT
END:VCALENDAR